BEGIN:VCALENDAR
VERSION:2.0
METHOD:PUBLISH
PRODID:-//Accessible Web Design//My Calendar//http://www.joedolson.com//v3.3.24.1//EN';
BEGIN:VEVENT
UID:28-27
LOCATION:Salle Prévert - Maison des associations - Parvis des arènes 100 Bd Jean Macé  Mauguio  34130
SUMMARY:Réunion adhérents et galettes des rois
DTSTAMP:20260116T203000
ORGANIZER;CN=Séverine:MAILTO:sevloz@yahoo.fr
DTSTART:20260116T203000
DTEND:20260116T223000
CATEGORIES:General
URL;VALUE=URI:
DESCRIPTION;ENCODING=QUOTED-PRINTABLE:Rendez vous vendredi 16 janvier 2026 à 20h30 à la Salle Prévert, Maison des associations, Parvis des Arènes 
END:VEVENT
END:VCALENDAR